BEGIN:VCALENDAR
VERSION:2.0
PRODID:-//operationxcel.org//NONSGML kigkonsult.se iCalcreator 2.30.10//
CALSCALE:GREGORIAN
METHOD:PUBLISH
UID:fce406b2-29d4-41c6-acb3-462e87b026e0
X-WR-CALDESC:
X-WR-RELCALID:fc0617145e91507f3dc3573e4d47b6a7
X-WR-TIMEZONE:America/New_York
BEGIN:VTIMEZONE
TZID:America/New_York
BEGIN:STANDARD
TZNAME:EST
DTSTART:20241103T020000
TZOFFSETFROM:-0400
TZOFFSETTO:-0500
RDATE:20251102T020000
RDATE:20261101T020000
END:STANDARD
BEGIN:DAYLIGHT
TZNAME:EDT
DTSTART:20250309T020000
TZOFFSETFROM:-0500
TZOFFSETTO:-0400
RDATE:20260308T020000
END:DAYLIGHT
END:VTIMEZONE
BEGIN:VEVENT
UID:882ed858-a633-47e8-a364-6330882e0873
DTSTAMP:20260419T133652Z
DESCRIPTION:
DTSTART;TZID=America/New_York:20250529T173000
DTEND;TZID=America/New_York:20250529T190000
LOCATION:1601 W. Florida St.\, Greensboro\, NC 27403 US
SUMMARY:Spring Showcase (Peck Elementary)
END:VEVENT
END:VCALENDAR
