BEGIN:VCALENDAR
VERSION:2.0
PRODID:-//operationxcel.org//NONSGML kigkonsult.se iCalcreator 2.30.10//
CALSCALE:GREGORIAN
METHOD:PUBLISH
UID:6239c3d9-17e6-4338-ba9a-dc5a7bf433cf
X-WR-CALDESC:
X-WR-RELCALID:0100be4f5c5d84be7ce01ad1e166969e
X-WR-TIMEZONE:America/New_York
BEGIN:VTIMEZONE
TZID:America/New_York
BEGIN:STANDARD
TZNAME:EST
DTSTART:20241103T020000
TZOFFSETFROM:-0400
TZOFFSETTO:-0500
RDATE:20251102T020000
RDATE:20261101T020000
END:STANDARD
BEGIN:DAYLIGHT
TZNAME:EDT
DTSTART:20250309T020000
TZOFFSETFROM:-0500
TZOFFSETTO:-0400
RDATE:20260308T020000
END:DAYLIGHT
END:VTIMEZONE
BEGIN:VEVENT
UID:5e2a3f8c-8595-456c-b180-ac09ed96ad49
DTSTAMP:20260419T134508Z
DESCRIPTION:
DTSTART;TZID=America/New_York:20250528T173000
DTEND;TZID=America/New_York:20250528T190000
LOCATION:8305 Loyola Drive\, Stokesdale\, NC 27357 US
SUMMARY:Spring Showcase (Oaks Springs Baptist Church & SUMC)
END:VEVENT
END:VCALENDAR
