BEGIN:VCALENDAR
VERSION:2.0
PRODID:-//operationxcel.org//NONSGML kigkonsult.se iCalcreator 2.30.10//
CALSCALE:GREGORIAN
METHOD:PUBLISH
UID:775e83c0-c72b-4f5e-918c-c28a06cc7eb0
X-WR-CALDESC:
X-WR-RELCALID:c47267c1de60a0ea002daf6557224d7c
X-WR-TIMEZONE:America/New_York
BEGIN:VTIMEZONE
TZID:America/New_York
BEGIN:STANDARD
TZNAME:EST
DTSTART:20241103T020000
TZOFFSETFROM:-0400
TZOFFSETTO:-0500
RDATE:20251102T020000
RDATE:20261101T020000
END:STANDARD
BEGIN:DAYLIGHT
TZNAME:EDT
DTSTART:20250309T020000
TZOFFSETFROM:-0500
TZOFFSETTO:-0400
RDATE:20260308T020000
END:DAYLIGHT
END:VTIMEZONE
BEGIN:VEVENT
UID:32dc7033-77e5-475d-a31b-17b8d47b86d0
DTSTAMP:20260419T133825Z
DESCRIPTION:
DTSTART;TZID=America/New_York:20250527T173000
DTEND;TZID=America/New_York:20250527T190000
LOCATION:2409 Ambassador Court \, High Point\, NC 27265 US
SUMMARY:Spring Showcase (Northwood Community Center)
END:VEVENT
END:VCALENDAR
