BEGIN:VCALENDAR
VERSION:2.0
PRODID:-//operationxcel.org//NONSGML kigkonsult.se iCalcreator 2.30.10//
CALSCALE:GREGORIAN
METHOD:PUBLISH
UID:da9bbfe1-8065-4dcb-9e42-bfa83dac71f6
X-WR-CALDESC:
X-WR-RELCALID:6c2c1bc3da157aabcf2a7924a128d055
X-WR-TIMEZONE:America/New_York
BEGIN:VTIMEZONE
TZID:America/New_York
BEGIN:STANDARD
TZNAME:EST
DTSTART:20241103T020000
TZOFFSETFROM:-0400
TZOFFSETTO:-0500
RDATE:20251102T020000
RDATE:20261101T020000
END:STANDARD
BEGIN:DAYLIGHT
TZNAME:EDT
DTSTART:20250309T020000
TZOFFSETFROM:-0500
TZOFFSETTO:-0400
RDATE:20260308T020000
END:DAYLIGHT
END:VTIMEZONE
BEGIN:VEVENT
UID:81fc62ee-5cd3-4894-9b14-f65a116c9d02
DTSTAMP:20260419T135011Z
DESCRIPTION:
DTSTART;TZID=America/New_York:20250522T173000
DTEND;TZID=America/New_York:20250522T190000
LOCATION:4257 SW School Rd #4231\, High Point\, NC 27265 US
SUMMARY:Spring Showcase (Southwest Guilford Middle School)
END:VEVENT
END:VCALENDAR
