BEGIN:VCALENDAR
VERSION:2.0
PRODID:-//operationxcel.org//NONSGML kigkonsult.se iCalcreator 2.30.10//
CALSCALE:GREGORIAN
METHOD:PUBLISH
UID:37152e99-7aa4-4c2a-8401-fa164825bdaa
X-WR-CALDESC:
X-WR-RELCALID:13f9c0f6dd36cc2eb4b99d7f2be3c5f6
X-WR-TIMEZONE:America/New_York
BEGIN:VTIMEZONE
TZID:America/New_York
BEGIN:STANDARD
TZNAME:EST
DTSTART:20241103T020000
TZOFFSETFROM:-0400
TZOFFSETTO:-0500
RDATE:20251102T020000
RDATE:20261101T020000
END:STANDARD
BEGIN:DAYLIGHT
TZNAME:EDT
DTSTART:20250309T020000
TZOFFSETFROM:-0500
TZOFFSETTO:-0400
RDATE:20260308T020000
END:DAYLIGHT
END:VTIMEZONE
BEGIN:VEVENT
UID:baafd17b-1804-4488-8eb0-162bc8917478
DTSTAMP:20260419T134338Z
DESCRIPTION:
DTSTART;TZID=America/New_York:20250521T173000
DTEND;TZID=America/New_York:20250521T190000
LOCATION:301 Haynes Rd\, Jamestown\, AL 27282 US
SUMMARY:Spring Showcase (Jamestown Middle School)
END:VEVENT
END:VCALENDAR
