BEGIN:VCALENDAR
VERSION:2.0
PRODID:-//operationxcel.org//NONSGML kigkonsult.se iCalcreator 2.30.10//
CALSCALE:GREGORIAN
METHOD:PUBLISH
UID:d302b2ca-c65d-4a99-8621-58c6f95cf42b
X-WR-CALDESC:
X-WR-RELCALID:fcb20062d3d05575b4c31d8f950e6efc
X-WR-TIMEZONE:America/New_York
BEGIN:VTIMEZONE
TZID:America/New_York
BEGIN:STANDARD
TZNAME:EST
DTSTART:20241103T020000
TZOFFSETFROM:-0400
TZOFFSETTO:-0500
RDATE:20251102T020000
RDATE:20261101T020000
END:STANDARD
BEGIN:DAYLIGHT
TZNAME:EDT
DTSTART:20250309T020000
TZOFFSETFROM:-0500
TZOFFSETTO:-0400
RDATE:20260308T020000
END:DAYLIGHT
END:VTIMEZONE
BEGIN:VEVENT
UID:8147f161-47a5-47bd-b6d5-5c0f3dedae9d
DTSTAMP:20260419T134814Z
DESCRIPTION:
DTSTART;TZID=America/New_York:20250520T173000
DTEND;TZID=America/New_York:20250520T190000
LOCATION:2200 Ontario St\, Greensboro\, NC 27403 US
SUMMARY:Spring Showcase (Jackson Middle School)
END:VEVENT
END:VCALENDAR
