BEGIN:VCALENDAR
VERSION:2.0
PRODID:-//operationxcel.org//NONSGML kigkonsult.se iCalcreator 2.30.10//
CALSCALE:GREGORIAN
METHOD:PUBLISH
UID:43eaf798-6047-4559-8b4e-3eba5c921053
X-WR-CALDESC:
X-WR-RELCALID:2868d905218fe2fd33ec4cacb0e04b43
X-WR-TIMEZONE:America/New_York
BEGIN:VTIMEZONE
TZID:America/New_York
BEGIN:STANDARD
TZNAME:EST
DTSTART:20241103T020000
TZOFFSETFROM:-0400
TZOFFSETTO:-0500
RDATE:20251102T020000
RDATE:20261101T020000
END:STANDARD
BEGIN:DAYLIGHT
TZNAME:EDT
DTSTART:20250309T020000
TZOFFSETFROM:-0500
TZOFFSETTO:-0400
RDATE:20260308T020000
END:DAYLIGHT
END:VTIMEZONE
BEGIN:VEVENT
UID:bc6abd76-e5a2-48c1-aea0-42571f66f233
DTSTAMP:20260419T134747Z
DESCRIPTION:
DTSTART;TZID=America/New_York:20250519T173000
DTEND;TZID=America/New_York:20250519T193000
LOCATION:3911 Naco Road\, Greensboro\, AL 27401 US
SUMMARY:Spring Showcase (Otis L. Hairston Middle School)
END:VEVENT
END:VCALENDAR
