BEGIN:VCALENDAR
VERSION:2.0
PRODID:-//operationxcel.org//NONSGML kigkonsult.se iCalcreator 2.30.10//
CALSCALE:GREGORIAN
METHOD:PUBLISH
UID:3922e5ec-1c05-413c-bf3c-748f66b2a104
X-WR-CALDESC:
X-WR-RELCALID:f23b6b41de934a4dd3201140b5683a51
X-WR-TIMEZONE:America/New_York
BEGIN:VTIMEZONE
TZID:America/New_York
BEGIN:STANDARD
TZNAME:EST
DTSTART:20241103T020000
TZOFFSETFROM:-0400
TZOFFSETTO:-0500
RDATE:20251102T020000
END:STANDARD
BEGIN:DAYLIGHT
TZNAME:EDT
DTSTART:20240310T020000
TZOFFSETFROM:-0500
TZOFFSETTO:-0400
RDATE:20250309T020000
RDATE:20260308T020000
END:DAYLIGHT
END:VTIMEZONE
BEGIN:VEVENT
UID:2be3e873-eacb-4e5b-806b-9294828e1fd2
DTSTAMP:20260421T153227Z
DESCRIPTION:
DTSTART;TZID=America/New_York:20250128T160000
DTEND;TZID=America/New_York:20250128T200000
LOCATION:4000 Ossi Court\, High Point\, NC 27265 US
SUMMARY:Parent Cafe @ Carolina Core Wellness
END:VEVENT
END:VCALENDAR
