BEGIN:VCALENDAR
VERSION:2.0
PRODID:-//operationxcel.org//NONSGML kigkonsult.se iCalcreator 2.30.10//
CALSCALE:GREGORIAN
METHOD:PUBLISH
UID:9bd8c2f7-af86-4bbb-82e1-46d9c5764007
X-WR-CALDESC:
X-WR-RELCALID:9aea15b761d84c99552aeaa05a804d7b
X-WR-TIMEZONE:America/New_York
BEGIN:VTIMEZONE
TZID:America/New_York
BEGIN:STANDARD
TZNAME:EST
DTSTART:20231105T020000
TZOFFSETFROM:-0400
TZOFFSETTO:-0500
RDATE:20241103T020000
RDATE:20251102T020000
END:STANDARD
BEGIN:DAYLIGHT
TZNAME:EDT
DTSTART:20240310T020000
TZOFFSETFROM:-0500
TZOFFSETTO:-0400
RDATE:20250309T020000
END:DAYLIGHT
END:VTIMEZONE
BEGIN:VEVENT
UID:a833e748-593d-4d29-9fb3-fd7333f01369
DTSTAMP:20260422T011909Z
DESCRIPTION:
DTSTART;TZID=America/New_York:20240805T173000
DTEND;TZID=America/New_York:20240809T183000
LOCATION:
SUMMARY:Summer Showcases
END:VEVENT
END:VCALENDAR
