BEGIN:VCALENDAR
VERSION:2.0
PRODID:-//operationxcel.org//NONSGML kigkonsult.se iCalcreator 2.30.10//
CALSCALE:GREGORIAN
METHOD:PUBLISH
UID:781520f0-572e-4ade-b578-74766d1eb0fa
X-WR-CALDESC:Operation Xcel challenges all connected to our programs to wea
 r purple on Friday\, October 20th - Domestic Violence Awareness Day 2023\,
  and let’s take a stand against Domestic Violence. Wearing purple is a sim
 ple way to show support to all those affected while showing commitment to 
 healthy relationships.\n\n
X-WR-RELCALID:c42ac6632ffafd724a5fe4333aa3a395
X-WR-TIMEZONE:America/New_York
BEGIN:VTIMEZONE
TZID:America/New_York
BEGIN:STANDARD
TZNAME:EST
DTSTART:20221106T020000
TZOFFSETFROM:-0400
TZOFFSETTO:-0500
RDATE:20231105T020000
RDATE:20241103T020000
END:STANDARD
BEGIN:DAYLIGHT
TZNAME:EDT
DTSTART:20230312T020000
TZOFFSETFROM:-0500
TZOFFSETTO:-0400
RDATE:20240310T020000
RDATE:20250309T020000
END:DAYLIGHT
END:VTIMEZONE
BEGIN:VEVENT
UID:4b3be6a6-6ccc-42eb-8ccd-57aad7c03cbf
DTSTAMP:20260423T105718Z
DESCRIPTION:Operation Xcel challenges all connected to our programs to wear
  purple on Friday\, October 20th - Domestic Violence Awareness Day 2023\, 
 and let’s take a stand against Domestic Violence. Wearing purple is a simp
 le way to show support to all those affected while showing commitment to h
 ealthy relationships.\n\n
DTSTART;TZID=America/New_York:20231020T000000
DTEND;TZID=America/New_York:20231020T235900
LOCATION:
SUMMARY:Domestic Violence Awareness Day - Wear Purple
END:VEVENT
END:VCALENDAR
